BEGIN:VCALENDAR
VERSION:2.0
PRODID:-//ChamberMaster//Event Calendar 2.0//EN
METHOD:PUBLISH
X-PUBLISHED-TTL:P1H
REFRESH-INTERVAL:P1H
CALSCALE:GREGORIAN
BEGIN:VTIMEZONE
TZID:America/Chicago
BEGIN:DAYLIGHT
RRULE:FREQ=YEARLY;BYMONTH=3;BYDAY=2SU
DTSTART:20070101T000000
TZOFFSETFROM:-0600
TZOFFSETTO:-0500
TZNAME:Central Daylight Time
END:DAYLIGHT
BEGIN:STANDARD
RRULE:FREQ=YEARLY;BYMONTH=11;BYDAY=1SU
DTSTART:20070101T000000
TZOFFSETFROM:-0500
TZOFFSETTO:-0600
TZNAME:Central Standard Time
END:STANDARD
END:VTIMEZONE
BEGIN:VEVENT
DTSTART;TZID=America/Chicago:20260503T123000
DTEND;TZID=America/Chicago:20260503T153000
X-MICROSOFT-CDO-ALLDAYEVENT:FALSE
SUMMARY:Excelsior Streetcar Line 2026 Sunday OPENING
DESCRIPTION:Spring is here! It's time to ride the trolley. Come and join us for the Excelsior Streetcar Line Sunday season opener on May 3 with rides between 12:30 P.M. and 3:30 P.M. The streetcar is sparkling clean and ready for action. The fare is $3 per rider ages 4 and above. Children 3 and under always ride free. Check out the full summer schedule\, including a number of special events\, at trolleyride.org.
X-ALT-DESC;FMTTYPE=text/html:Spring is here! It's time to ride the trolley. Come and join us for the Excelsior Streetcar Line Sunday season opener on May 3 with rides between 12:30 P.M. and 3:30 P.M. The streetcar is sparkling clean and ready for action. The fare is $3 per rider ages 4 and above. Children 3 and under always ride free. Check out the full summer schedule\, including a number of special events\, at trolleyride.org.
LOCATION:Next to the Excelsior Library 337 Water Street Excelsior MN 55331
UID:e.3024.1447569
SEQUENCE:3
DTSTAMP:20260421T021447Z
URL:https://business.excelsior-lakeminnetonkachamberofcommerce.org/event-calendar/Details/excelsior-streetcar-line-2026-sunday-opening-1714510?sourceTypeId=Hub
END:VEVENT
END:VCALENDAR
